BEGIN:VCALENDAR
VERSION:2.0
PRODID:-// - ECPv4.9.14//NONSGML v1.0//EN
CALSCALE:GREGORIAN
METHOD:PUBLISH
X-ORIGINAL-URL:https://www.reifcenter.org
X-WR-CALDESC:Events for 
BEGIN:VTIMEZONE
TZID:America/Chicago
BEGIN:DAYLIGHT
TZOFFSETFROM:-0600
TZOFFSETTO:-0500
TZNAME:CDT
DTSTART:20190310T080000
END:DAYLIGHT
BEGIN:STANDARD
TZOFFSETFROM:-0500
TZOFFSETTO:-0600
TZNAME:CST
DTSTART:20191103T070000
END:STANDARD
END:VTIMEZONE
BEGIN:VEVENT
DTSTART;TZID=America/Chicago:20191213T180000
DTEND;TZID=America/Chicago:20191215T140000
DTSTAMP:20260426T034043
CREATED:20190626T164001Z
LAST-MODIFIED:20191118T231059Z
UID:4874-1576260000-1576418400@www.reifcenter.org
SUMMARY:Reif Dance: The Nutcracker
DESCRIPTION:Friday\, December 13 | 6 p.m.\nSaturday\, December 14 | 6 p.m.\nSunday\, December 15 | 2 p.m. \nRecreated from the classical ballet by Tchaikovsky\, and performed by the superb Reif Dancers\, The Nutcracker tells the enchanting story of young Clara who dreams that her nutcracker doll is transformed into a valiant prince. After defeating the evil Mouse King and his army\, they are transported to the fantastical Land of Sweets where they are welcomed by a host of delectable characters. A Reif holiday tradition. \nTHANK YOU TO SPONSORS \n   \n \n\n
URL:https://www.reifcenter.org/event/reif-dance-the-nutcracker/
LOCATION:Wilcox Theater\, 720 NW Conifer Dr\, Grand Rapids\, MN\, 55744\, United States
CATEGORIES:Community,Dance,Family,Music,Reif Series,Theater
ATTACH;FMTTYPE=image/jpeg:https://www.reifcenter.org/wp-content/uploads/2019/06/Nut-270-e1561747013750.jpg
END:VEVENT
END:VCALENDAR