BEGIN:VCALENDAR
VERSION:2.0
PRODID:-// - ECPv4.9.14//NONSGML v1.0//EN
CALSCALE:GREGORIAN
METHOD:PUBLISH
X-ORIGINAL-URL:https://www.reifcenter.org
X-WR-CALDESC:Events for 
BEGIN:VTIMEZONE
TZID:America/Chicago
BEGIN:DAYLIGHT
TZOFFSETFROM:-0600
TZOFFSETTO:-0500
TZNAME:CDT
DTSTART:20190310T080000
END:DAYLIGHT
BEGIN:STANDARD
TZOFFSETFROM:-0500
TZOFFSETTO:-0600
TZNAME:CST
DTSTART:20191103T070000
END:STANDARD
END:VTIMEZONE
BEGIN:VEVENT
DTSTART;TZID=America/Chicago:20191217T093000
DTEND;TZID=America/Chicago:20191217T093000
DTSTAMP:20260426T005443
CREATED:20191021T182123Z
LAST-MODIFIED:20191021T182137Z
UID:5839-1576575000-1576575000@www.reifcenter.org
SUMMARY:Forest Lake K-2
DESCRIPTION:
URL:https://www.reifcenter.org/event/forest-lake-k-2/
LOCATION:Wilcox Theater\, Reif Center (ISD 318 Event)\, 720 NW Conifer Dr\, Grand Rapids\, MN\, 55744\, United States
CATEGORIES:ISD 318
END:VEVENT
BEGIN:VEVENT
DTSTART;TZID=America/Chicago:20191217T130000
DTEND;TZID=America/Chicago:20191217T130000
DTSTAMP:20260426T005443
CREATED:20191021T182344Z
LAST-MODIFIED:20191021T182714Z
UID:5841-1576587600-1576587600@www.reifcenter.org
SUMMARY:Cohasset K-2
DESCRIPTION:
URL:https://www.reifcenter.org/event/cohasset-k-2/
LOCATION:Wilcox Theater\, Reif Center (ISD 318 Event)\, 720 NW Conifer Dr\, Grand Rapids\, MN\, 55744\, United States
CATEGORIES:ISD 318
END:VEVENT
BEGIN:VEVENT
DTSTART;TZID=America/Chicago:20191217T140000
DTEND;TZID=America/Chicago:20191217T140000
DTSTAMP:20260426T005443
CREATED:20191021T182910Z
LAST-MODIFIED:20191021T183642Z
UID:5843-1576591200-1576591200@www.reifcenter.org
SUMMARY:Murphy Music Program
DESCRIPTION:
URL:https://www.reifcenter.org/event/murphy-music-program/2019-12-17/
LOCATION:Wilcox Theater\, Reif Center (ISD 318 Event)\, 720 NW Conifer Dr\, Grand Rapids\, MN\, 55744\, United States
CATEGORIES:ISD 318
END:VEVENT
END:VCALENDAR