BEGIN:VCALENDAR
VERSION:2.0
PRODID:-// - ECPv4.9.14//NONSGML v1.0//EN
CALSCALE:GREGORIAN
METHOD:PUBLISH
X-ORIGINAL-URL:https://www.reifcenter.org
X-WR-CALDESC:Events for 
BEGIN:VTIMEZONE
TZID:America/Chicago
BEGIN:DAYLIGHT
TZOFFSETFROM:-0600
TZOFFSETTO:-0500
TZNAME:CDT
DTSTART:20190310T080000
END:DAYLIGHT
BEGIN:STANDARD
TZOFFSETFROM:-0500
TZOFFSETTO:-0600
TZNAME:CST
DTSTART:20191103T070000
END:STANDARD
END:VTIMEZONE
BEGIN:VEVENT
DTSTART;TZID=America/Chicago:20191221T190000
DTEND;TZID=America/Chicago:20191221T210000
DTSTAMP:20260425T190107
CREATED:20190626T173801Z
LAST-MODIFIED:20191220T170836Z
UID:4884-1576954800-1576962000@www.reifcenter.org
SUMMARY:Rock & Roll Xmas
DESCRIPTION: \nRock & Roll Christmas is a Las Vegas caliber\, multimedia\, full-production show that mixes an 8-piece band with music\, comedy\, parodies and even a game show! Join an all-star cast of musicians as they rock their way through timeless holiday classics and bring new takes on hit songs you didn’t even know were holiday classics. \nTHANK YOU TO SPONSOR \n \n \n\n
URL:https://www.reifcenter.org/event/rock-roll-xmas/
LOCATION:Wilcox Theater\, 720 NW Conifer Dr\, Grand Rapids\, MN\, 55744\, United States
CATEGORIES:Community,Music,Reif Series,Theater
ATTACH;FMTTYPE=image/jpeg:https://www.reifcenter.org/wp-content/uploads/2019/06/Rock-Roll-Christmas-e1561746941398.jpg
END:VEVENT
END:VCALENDAR