BEGIN:VCALENDAR
VERSION:2.0
PRODID:-// - ECPv4.9.14//NONSGML v1.0//EN
CALSCALE:GREGORIAN
METHOD:PUBLISH
X-ORIGINAL-URL:https://www.reifcenter.org
X-WR-CALDESC:Events for 
BEGIN:VTIMEZONE
TZID:America/Chicago
BEGIN:DAYLIGHT
TZOFFSETFROM:-0600
TZOFFSETTO:-0500
TZNAME:CDT
DTSTART:20200308T080000
END:DAYLIGHT
BEGIN:STANDARD
TZOFFSETFROM:-0500
TZOFFSETTO:-0600
TZNAME:CST
DTSTART:20201101T070000
END:STANDARD
END:VTIMEZONE
BEGIN:VEVENT
DTSTART;TZID=America/Chicago:20200112T140000
DTEND;TZID=America/Chicago:20200112T160000
DTSTAMP:20260422T042258
CREATED:20190626T200906Z
LAST-MODIFIED:20191122T002402Z
UID:4891-1578837600-1578844800@www.reifcenter.org
SUMMARY:Nadia with the Bakken Trio
DESCRIPTION:Nadia Boulanger was a French musician who had a list of students that reads like a “who’s who” of twentieth century composers: Philip Glass\, Aaron Copland\, Astor Piazzolla\, Michel Legrand\, Gian Carlo Menotti\, Walter Piston\, Jean Françaix\, and the list goes on and on. She’s been called “the most influential teacher since Socrates.” Writer/Creator Mina Fisher tells Nadia’s story through words and music performed by Michael Kim\, pianist\, Stephanie Arado\, violin\, and soprano Adriana Zabala as Nadia. \nThis activity is made possible by voters of Minnesota through a grant from the Minnesota State Arts Board\, thanks to a legislative appropriation from the arts and cultural heritage fund. \n \nTHANK YOU TO SPONSOR\n \n \n\n
URL:https://www.reifcenter.org/event/nadia-with-the-bakken-trio/
LOCATION:Ives Studio Theater\, Reif Center\, 720 NW Conifer Dr\, Grand Rapids\, MN\, 55744\, United States
CATEGORIES:Community,Family,Music,Reif Series
ATTACH;FMTTYPE=image/jpeg:https://www.reifcenter.org/wp-content/uploads/2019/06/Nadia-e1561746799458.jpg
END:VEVENT
END:VCALENDAR