BEGIN:VCALENDAR
VERSION:2.0
PRODID:-// - ECPv4.9.14//NONSGML v1.0//EN
CALSCALE:GREGORIAN
METHOD:PUBLISH
X-ORIGINAL-URL:https://www.reifcenter.org
X-WR-CALDESC:Events for 
BEGIN:VTIMEZONE
TZID:America/Chicago
BEGIN:DAYLIGHT
TZOFFSETFROM:-0600
TZOFFSETTO:-0500
TZNAME:CDT
DTSTART:20200308T080000
END:DAYLIGHT
BEGIN:STANDARD
TZOFFSETFROM:-0500
TZOFFSETTO:-0600
TZNAME:CST
DTSTART:20201101T070000
END:STANDARD
END:VTIMEZONE
BEGIN:VEVENT
DTSTART;TZID=America/Chicago:20200113T190000
DTEND;TZID=America/Chicago:20200113T190000
DTSTAMP:20260422T023122
CREATED:20191021T185858Z
LAST-MODIFIED:20191021T190004Z
UID:5849-1578942000-1578942000@www.reifcenter.org
SUMMARY:GRHS Band Concert
DESCRIPTION:
URL:https://www.reifcenter.org/event/grhs-band-concert-2/
LOCATION:Wilcox Theater\, Reif Center (ISD 318 Event)\, 720 NW Conifer Dr\, Grand Rapids\, MN\, 55744\, United States
CATEGORIES:ISD 318
END:VEVENT
END:VCALENDAR