BEGIN:VCALENDAR
VERSION:2.0
PRODID:-// - ECPv4.9.14//NONSGML v1.0//EN
CALSCALE:GREGORIAN
METHOD:PUBLISH
X-ORIGINAL-URL:https://www.reifcenter.org
X-WR-CALDESC:Events for 
BEGIN:VTIMEZONE
TZID:America/Chicago
BEGIN:DAYLIGHT
TZOFFSETFROM:-0600
TZOFFSETTO:-0500
TZNAME:CDT
DTSTART:20200308T080000
END:DAYLIGHT
BEGIN:STANDARD
TZOFFSETFROM:-0500
TZOFFSETTO:-0600
TZNAME:CST
DTSTART:20201101T070000
END:STANDARD
END:VTIMEZONE
BEGIN:VEVENT
DTSTART;TZID=America/Chicago:20200117T190000
DTEND;TZID=America/Chicago:20200117T210000
DTSTAMP:20260421T184902
CREATED:20190626T204502Z
LAST-MODIFIED:20190626T204517Z
UID:4901-1579287600-1579294800@www.reifcenter.org
SUMMARY:Transit Authority
DESCRIPTION:Since performing their very first shows together in the early spring of 2004\, Transit Authority has become known throughout the U.S. as the premier tribute band to the iconic group Chicago. Based out of St. Paul\, Minnesota\, this eight member ensemble creates an accurate musical salute to the greatest horn driven rock band to ever hit the stage. Transit Authority’s mission is to recreate the excitement of the original Chicago’s sound with each and every performance (minus the cracks and pops of the vinyl!). Transit Authority has assembled some amazingly talented musicians who meticulously capture all the nuances of the original recordings and will honestly make you believe you are witnessing the real thing. Performing mega-hits such as\, “Does Anybody Really Know What Time It Is?”\, “Hard Habit to Break”\, “Make Me Smile”\, “Old Days”\, “Just You ‘n Me”\, “Beginnings”\, “Wake Up Sunshine”\, and many more. \n \n \n\n
URL:https://www.reifcenter.org/event/transit-authority/
LOCATION:Wilcox Theater\, 720 NW Conifer Dr\, Grand Rapids\, MN\, 55744\, United States
CATEGORIES:Community,Music,Reif Series
ATTACH;FMTTYPE=image/jpeg:https://www.reifcenter.org/wp-content/uploads/2019/06/Transit-Authority-Web-1-e1561746779503.jpg
END:VEVENT
END:VCALENDAR