BEGIN:VCALENDAR
VERSION:2.0
PRODID:-// - ECPv4.9.14//NONSGML v1.0//EN
CALSCALE:GREGORIAN
METHOD:PUBLISH
X-ORIGINAL-URL:https://www.reifcenter.org
X-WR-CALDESC:Events for 
BEGIN:VTIMEZONE
TZID:America/Chicago
BEGIN:DAYLIGHT
TZOFFSETFROM:-0600
TZOFFSETTO:-0500
TZNAME:CDT
DTSTART:20200308T080000
END:DAYLIGHT
BEGIN:STANDARD
TZOFFSETFROM:-0500
TZOFFSETTO:-0600
TZNAME:CST
DTSTART:20201101T070000
END:STANDARD
END:VTIMEZONE
BEGIN:VEVENT
DTSTART;TZID=America/Chicago:20200124T100000
DTEND;TZID=America/Chicago:20200124T110000
DTSTAMP:20260421T062612
CREATED:20190822T185041Z
LAST-MODIFIED:20200114T175742Z
UID:5375-1579860000-1579863600@www.reifcenter.org
SUMMARY:Class Acts: The Reminders
DESCRIPTION:Consisting of Brussels-born emcee Big Samir and Queens-born vocalist Aja Black\, The Reminders are a positive hip-hop\, creative force. They weave intricate rhythmic patterns with a bilingual French/English flow\, diverse cadences\, and unique vocal stylings. \n10 a.m. Show | Grades 3 – 4\n12:30 p.m. Show | High School\n$7 per student | Tickets: boxoffice@reifcenter.org \n(218) 327-5780 \nThis show is part of the 2019-2020 Reif Education Class Acts Series and is not open to the general public. \nTHANK YOU TO SPONSOR\n \n \n
URL:https://www.reifcenter.org/event/class-acts-the-reminders/2020-01-24/
LOCATION:Wilcox Theater\, 720 NW Conifer Dr\, Grand Rapids\, MN\, 55744\, United States
CATEGORIES:School
ATTACH;FMTTYPE=image/jpeg:https://www.reifcenter.org/wp-content/uploads/2019/06/Reminders-e1561746756128.jpg
END:VEVENT
BEGIN:VEVENT
DTSTART;TZID=America/Chicago:20200124T190000
DTEND;TZID=America/Chicago:20200124T210000
DTSTAMP:20260421T062612
CREATED:20190626T215233Z
LAST-MODIFIED:20190626T215829Z
UID:4906-1579892400-1579899600@www.reifcenter.org
SUMMARY:The Reminders
DESCRIPTION:The Reminders are a rare and remarkable musical duo seamlessly blending soulful sounds and roots music with insightful messages and thoughtful lyrics. The duo consists of Brussels-born emcee Big Samir and Queens-born emcee/ vocalist Aja Black\, a collective creative force that’s hard to beat. Big Samir weaves intricate rhythmic patterns with a bilingual French/English flow\, displaying his street-smart credibility in both his lyrics and cool demeanor. This is beautifully complimented by Aja Black’s confident delivery\, diverse cadences\, and unique vocal stylings. The two have an undeniable magical chemistry as they share more than lyrical abilities and stages; the couple shares a partnership in both music and life as Samir and Aja have been married for almost a decade. \nTHANK YOU TO SPONSOR \n \n \n\n
URL:https://www.reifcenter.org/event/the-reminders/
LOCATION:Wilcox Theater\, 720 NW Conifer Dr\, Grand Rapids\, MN\, 55744\, United States
CATEGORIES:Community,Family,Music,Reif Series
ATTACH;FMTTYPE=image/jpeg:https://www.reifcenter.org/wp-content/uploads/2019/06/Reminders-e1561746756128.jpg
END:VEVENT
END:VCALENDAR