BEGIN:VCALENDAR
VERSION:2.0
PRODID:-// - ECPv4.9.14//NONSGML v1.0//EN
CALSCALE:GREGORIAN
METHOD:PUBLISH
X-ORIGINAL-URL:https://www.reifcenter.org
X-WR-CALDESC:Events for 
BEGIN:VTIMEZONE
TZID:America/Chicago
BEGIN:DAYLIGHT
TZOFFSETFROM:-0600
TZOFFSETTO:-0500
TZNAME:CDT
DTSTART:20200308T080000
END:DAYLIGHT
BEGIN:STANDARD
TZOFFSETFROM:-0500
TZOFFSETTO:-0600
TZNAME:CST
DTSTART:20201101T070000
END:STANDARD
END:VTIMEZONE
BEGIN:VEVENT
DTSTART;TZID=America/Chicago:20200131T190000
DTEND;TZID=America/Chicago:20200131T210000
DTSTAMP:20260420T173338
CREATED:20190627T194153Z
LAST-MODIFIED:20191218T213028Z
UID:4916-1580497200-1580504400@www.reifcenter.org
SUMMARY:Aby Wolf - Champagne Confetti
DESCRIPTION:An evening of new works composed by Aby Wolf\, in collaboration with Eric Mayson and Grant Cutler\, and performed by a cast of renowned musicians as comfortable in experimentation as virtuosity. Through a creative process based in improvisation resulting in atypical song structures\, Champagne Confetti is a practice in embracing uncertainty. It blurs the lines between ambient neo-minimalism\, chamber music\, and electro-R&B. It is inspired by the imminent universal need to find footing in an unstable world\, and on both a personal and global scale\, these new compositions explore that uncertainty. \nMPR members receive $2 off per ticket by using code MPR at checkout. \nTHANK YOU TO SPONSOR\n \n \n\n \n\n
URL:https://www.reifcenter.org/event/aby-wolf-champagne-confetti/
LOCATION:Wilcox Theater\, 720 NW Conifer Dr\, Grand Rapids\, MN\, 55744\, United States
CATEGORIES:Community,Family,Music,Reif Series
ATTACH;FMTTYPE=image/jpeg:https://www.reifcenter.org/wp-content/uploads/2019/06/Aby-Wolf-e1561746670401.jpg
END:VEVENT
END:VCALENDAR