BEGIN:VCALENDAR
VERSION:2.0
PRODID:-// - ECPv4.9.14//NONSGML v1.0//EN
CALSCALE:GREGORIAN
METHOD:PUBLISH
X-ORIGINAL-URL:https://www.reifcenter.org
X-WR-CALDESC:Events for 
BEGIN:VTIMEZONE
TZID:America/Chicago
BEGIN:DAYLIGHT
TZOFFSETFROM:-0600
TZOFFSETTO:-0500
TZNAME:CDT
DTSTART:20200308T080000
END:DAYLIGHT
BEGIN:STANDARD
TZOFFSETFROM:-0500
TZOFFSETTO:-0600
TZNAME:CST
DTSTART:20201101T070000
END:STANDARD
END:VTIMEZONE
BEGIN:VEVENT
DTSTART;TZID=America/Chicago:20200201T190000
DTEND;TZID=America/Chicago:20200201T210000
DTSTAMP:20260420T174924
CREATED:20190628T003111Z
LAST-MODIFIED:20200127T170307Z
UID:4920-1580583600-1580590800@www.reifcenter.org
SUMMARY:The Office - A Musical Parody
DESCRIPTION: \nIt’s a typical morning at Scranton’s third largest paper company until\, for no logical reason\, a documentary crew begins filming the lives of the employees of Dunder Mifflin… Don’t miss this hilarious\, parody of the hit TV show\, “The Office.” Currently playing on Broadway at The Theater Center in New York City. \nTHANK YOU TO SPONSOR \n\n \n \n\n
URL:https://www.reifcenter.org/event/the-office-a-musical-parody/
LOCATION:Wilcox Theater\, 720 NW Conifer Dr\, Grand Rapids\, MN\, 55744\, United States
CATEGORIES:Community,Reif Series,Theater
ATTACH;FMTTYPE=image/jpeg:https://www.reifcenter.org/wp-content/uploads/2020/01/Office-web-banner.jpg
END:VEVENT
END:VCALENDAR