BEGIN:VCALENDAR
VERSION:2.0
PRODID:-// - ECPv4.9.14//NONSGML v1.0//EN
CALSCALE:GREGORIAN
METHOD:PUBLISH
X-ORIGINAL-URL:https://www.reifcenter.org
X-WR-CALDESC:Events for 
BEGIN:VTIMEZONE
TZID:America/Chicago
BEGIN:DAYLIGHT
TZOFFSETFROM:-0600
TZOFFSETTO:-0500
TZNAME:CDT
DTSTART:20200308T080000
END:DAYLIGHT
BEGIN:STANDARD
TZOFFSETFROM:-0500
TZOFFSETTO:-0600
TZNAME:CST
DTSTART:20201101T070000
END:STANDARD
END:VTIMEZONE
BEGIN:VEVENT
DTSTART;TZID=America/Chicago:20200208T190000
DTEND;TZID=America/Chicago:20200208T210000
DTSTAMP:20260420T173601
CREATED:20190628T010204Z
LAST-MODIFIED:20190628T010242Z
UID:4930-1581188400-1581195600@www.reifcenter.org
SUMMARY:The Legendary Ladies of Country
DESCRIPTION:Celebrate the catalogs of the Legendary Ladies of Country Music\, spanning three decades of iconic songs from Patsy Cline\, Loretta Lynn and Dolly Parton. Join us for an unforgettable evening of live music featuring their number one hits: I Will Always Love You\, Jolene\, Walking After Midnight\, I Fall to Pieces\, Coal Miner’s Daughter\, Blue Kentucky Girl and many more. \n \n\n
URL:https://www.reifcenter.org/event/the-legendary-ladies-of-country/
LOCATION:Wilcox Theater\, 720 NW Conifer Dr\, Grand Rapids\, MN\, 55744\, United States
CATEGORIES:Community,Music,Reif Series
ATTACH;FMTTYPE=image/jpeg:https://www.reifcenter.org/wp-content/uploads/2019/06/Legendary-ladies-2-e1561746537131.jpg
END:VEVENT
END:VCALENDAR