BEGIN:VCALENDAR
VERSION:2.0
PRODID:-// - ECPv4.9.14//NONSGML v1.0//EN
CALSCALE:GREGORIAN
METHOD:PUBLISH
X-ORIGINAL-URL:https://www.reifcenter.org
X-WR-CALDESC:Events for 
BEGIN:VTIMEZONE
TZID:America/Chicago
BEGIN:DAYLIGHT
TZOFFSETFROM:-0600
TZOFFSETTO:-0500
TZNAME:CDT
DTSTART:20200308T080000
END:DAYLIGHT
BEGIN:STANDARD
TZOFFSETFROM:-0500
TZOFFSETTO:-0600
TZNAME:CST
DTSTART:20201101T070000
END:STANDARD
END:VTIMEZONE
BEGIN:VEVENT
DTSTART;TZID=America/Chicago:20200220T190000
DTEND;TZID=America/Chicago:20200220T210000
DTSTAMP:20260420T173512
CREATED:20190628T013103Z
LAST-MODIFIED:20191014T174954Z
UID:4938-1582225200-1582232400@www.reifcenter.org
SUMMARY:Corey Medina & Bros w/Leah Lemm
DESCRIPTION: \nCorey Medina is a Native American Blues Artist from Shiprock\, NM. He moved to Northern Minnesota in 2012 and collaborated with Incepticons Entertainment. Through Incepticons Entertainment Corey released his debut album “Old Dog Crying” in May of 2015\, produced by Garlic Brown Beats. Corey now plays\, writes and produces with the Incepticons team full time and also travels with his band known as “The Brothers”\, hence Corey Medina & Brothers. Corey refers to the Brothers as a representation of the relationship he likes to keep with his fellow band mates. Currently the Brothers band consist of Eric Sundeen of Bemidji\, MN on Drums and Gary Broste also from Bemidji\, on upright bass. They set out to spread light to dark\, and hope to the hopeless with their raw\, soulful\, intimate music and stage presence. \nTHANK YOU TO SPONSOR\n\n \n \n\n
URL:https://www.reifcenter.org/event/corey-medina-bros-w-leah-lemm/
LOCATION:Ives Studio Theater\, Reif Center\, 720 NW Conifer Dr\, Grand Rapids\, MN\, 55744\, United States
CATEGORIES:Community,Music,Reif Series
ATTACH;FMTTYPE=image/jpeg:https://www.reifcenter.org/wp-content/uploads/2019/06/Corey-Medina-e1561746492749.jpg
END:VEVENT
END:VCALENDAR