BEGIN:VCALENDAR
VERSION:2.0
PRODID:-// - ECPv4.9.14//NONSGML v1.0//EN
CALSCALE:GREGORIAN
METHOD:PUBLISH
X-ORIGINAL-URL:https://www.reifcenter.org
X-WR-CALDESC:Events for 
BEGIN:VTIMEZONE
TZID:America/Chicago
BEGIN:DAYLIGHT
TZOFFSETFROM:-0600
TZOFFSETTO:-0500
TZNAME:CDT
DTSTART:20200308T080000
END:DAYLIGHT
BEGIN:STANDARD
TZOFFSETFROM:-0500
TZOFFSETTO:-0600
TZNAME:CST
DTSTART:20201101T070000
END:STANDARD
END:VTIMEZONE
BEGIN:VEVENT
DTSTART;TZID=America/Chicago:20200225T123000
DTEND;TZID=America/Chicago:20200225T133000
DTSTAMP:20260420T174253
CREATED:20190822T190948Z
LAST-MODIFIED:20200207T161845Z
UID:5388-1582633800-1582637400@www.reifcenter.org
SUMMARY:Class Acts: Hocus Focus | Kevin Spencer
DESCRIPTION:Kevin Spencer is a teaching artist\, researcher\, speaker\, consultant\, and film producer as well as a faculty member in the Special Education program at Carlow University (PA). He is a world-renowned illusionist\, second only to David Copperfield in terms of touring. \nGrades K – 12\n$7 per student | Tickets: boxoffice@reifcenter.org \n(218) 327-5780 \nThis show is part of the 2019-2020 Reif Education Class Acts Series and is not open to the general public. \nTHANK YOU TO SPONSOR\n\n\n \n
URL:https://www.reifcenter.org/event/class-acts-hocus-focus-kevin-spencer/
LOCATION:Wilcox Theater\, 720 NW Conifer Dr\, Grand Rapids\, MN\, 55744\, United States
CATEGORIES:School
ATTACH;FMTTYPE=image/png:https://www.reifcenter.org/wp-content/uploads/2019/08/51-Vegas-girl-laughing-e1566500935587.png
END:VEVENT
BEGIN:VEVENT
DTSTART;TZID=America/Chicago:20200225T180000
DTEND;TZID=America/Chicago:20200225T200000
DTSTAMP:20260420T174253
CREATED:20190628T014456Z
LAST-MODIFIED:20190628T014649Z
UID:4941-1582653600-1582660800@www.reifcenter.org
SUMMARY:Hocus Focus - Kevin Spencer
DESCRIPTION:Kevin Spencer is a teaching artist\, researcher\, speaker\, consultant\, and award-winning film producer as well as faculty in the Special Education program at Carlow University (PA) where he teaches a course on the intersection of the arts for special populations. He is also a world-renowned illusionist with dozens of accolades to his credit. He and his wife\, Cindy\, were the recipients of the Merlin Award for International Magicians of the Year (2009) and six-time recipients of Performing Arts Entertainer of the Year. Most recently\, the Milbourne Christopher Foundation honored them as Illusionists of the Year (2015) for their unique contributions to the art of magic. \nTHANK YOU TO SPONSOR\n \n  \n \n\n
URL:https://www.reifcenter.org/event/hocus-focus-kevin-spencer/
LOCATION:Wilcox Theater\, 720 NW Conifer Dr\, Grand Rapids\, MN\, 55744\, United States
CATEGORIES:Community,Family,Reif Series
ATTACH;FMTTYPE=image/png:https://www.reifcenter.org/wp-content/uploads/2019/06/Hocus-Pocs-e1561746475580.png
END:VEVENT
END:VCALENDAR