BEGIN:VCALENDAR
VERSION:2.0
PRODID:-// - ECPv4.9.14//NONSGML v1.0//EN
CALSCALE:GREGORIAN
METHOD:PUBLISH
X-ORIGINAL-URL:https://www.reifcenter.org
X-WR-CALDESC:Events for 
BEGIN:VTIMEZONE
TZID:America/Chicago
BEGIN:DAYLIGHT
TZOFFSETFROM:-0600
TZOFFSETTO:-0500
TZNAME:CDT
DTSTART:20200308T080000
END:DAYLIGHT
BEGIN:STANDARD
TZOFFSETFROM:-0500
TZOFFSETTO:-0600
TZNAME:CST
DTSTART:20201101T070000
END:STANDARD
END:VTIMEZONE
BEGIN:VEVENT
DTSTART;TZID=America/Chicago:20200228T190000
DTEND;TZID=America/Chicago:20200228T210000
DTSTAMP:20260420T173840
CREATED:20190628T015604Z
LAST-MODIFIED:20190628T015614Z
UID:4945-1582916400-1582923600@www.reifcenter.org
SUMMARY:Larry Gatlin
DESCRIPTION:Larry Gatlin is known for his rich falsetto singing style and for the unique pop-inflected songs he wrote and recorded in the 1970s and 1980s. Some of Gatlin’s biggest hits include “Broken Lady”\, “All the Gold in California”\, “Houston (Means I’m One Day Closer to You)”\, “She Used to Be Somebody’s Baby”\, and “Talkin’ to the Moon”. During this time\, country music trended heavily towards slick pop music arrangements in a style that came to be known as Countrypolitan. \nTHANK YOU TO SPONSOR\n\n \n \n\n
URL:https://www.reifcenter.org/event/larry-gatlin/
LOCATION:Wilcox Theater\, 720 NW Conifer Dr\, Grand Rapids\, MN\, 55744\, United States
CATEGORIES:Community,Family,Music,Reif Series
ATTACH;FMTTYPE=image/jpeg:https://www.reifcenter.org/wp-content/uploads/2019/06/Larry-Gatlin-e1561746456681.jpg
END:VEVENT
END:VCALENDAR