BEGIN:VCALENDAR
VERSION:2.0
PRODID:-// - ECPv4.9.14//NONSGML v1.0//EN
CALSCALE:GREGORIAN
METHOD:PUBLISH
X-ORIGINAL-URL:https://www.reifcenter.org
X-WR-CALDESC:Events for 
BEGIN:VTIMEZONE
TZID:America/Chicago
BEGIN:DAYLIGHT
TZOFFSETFROM:-0600
TZOFFSETTO:-0500
TZNAME:CDT
DTSTART:20200308T080000
END:DAYLIGHT
BEGIN:STANDARD
TZOFFSETFROM:-0500
TZOFFSETTO:-0600
TZNAME:CST
DTSTART:20201101T070000
END:STANDARD
END:VTIMEZONE
BEGIN:VEVENT
DTSTART;TZID=America/Chicago:20200306T133000
DTEND;TZID=America/Chicago:20200306T143000
DTSTAMP:20260420T195149
CREATED:20200213T224258Z
LAST-MODIFIED:20200213T224645Z
UID:6378-1583501400-1583505000@www.reifcenter.org
SUMMARY:Senior Series: Lake Wobegon® Brass Band
DESCRIPTION:The Lake Wobegon® Brass Band was originated by three founding members at the Anoka Coffee Shop on a Saturday morning in early 1992. Two of them had attended the 1991 North American Brass Band Association (NABBA) National Contest in Iowa and returned inspired to turn their dream of a Brass Band “right here in River City” into reality. \nIncludes a pie social following the program! \nTickets: boxoffice@reifcenter.org\n(218) 327-5780 \nOpen to senior living facilities\, groups and folks over the age of 62.\nPart of the 2019-2020 Reif Senior Series. \n\n
URL:https://www.reifcenter.org/event/senior-series-lake-wobegon-brass-band/
LOCATION:Wilcox Theater\, 720 NW Conifer Dr\, Grand Rapids\, MN\, 55744\, United States
CATEGORIES:Senior Series
ATTACH;FMTTYPE=image/jpeg:https://www.reifcenter.org/wp-content/uploads/2019/06/Lake-Wobegon-Brass-band-e1561746294415.jpg
END:VEVENT
BEGIN:VEVENT
DTSTART;TZID=America/Chicago:20200306T190000
DTEND;TZID=America/Chicago:20200306T210000
DTSTAMP:20260420T195149
CREATED:20190628T035041Z
LAST-MODIFIED:20200114T202950Z
UID:4960-1583521200-1583528400@www.reifcenter.org
SUMMARY:Lake Wobegon® Brass Band
DESCRIPTION:The Lake Wobegon® Brass Band was originated by three founding members at the Anoka Coffee Shop on a Saturday morning in early 1992. Two of them had attended the 1991 North American Brass Band Association (NABBA) National Contest in Iowa and returned inspired to turn their dream of a Brass Band “right here in River City” into reality. \n \n\n
URL:https://www.reifcenter.org/event/lake-wobegon-brass-band/
LOCATION:Wilcox Theater\, 720 NW Conifer Dr\, Grand Rapids\, MN\, 55744\, United States
CATEGORIES:Community,Music,Reif Series
ATTACH;FMTTYPE=image/jpeg:https://www.reifcenter.org/wp-content/uploads/2019/06/Lake-Wobegon-Brass-band-e1561746294415.jpg
END:VEVENT
END:VCALENDAR