BEGIN:VCALENDAR
VERSION:2.0
PRODID:-// - ECPv4.9.14//NONSGML v1.0//EN
CALSCALE:GREGORIAN
METHOD:PUBLISH
X-ORIGINAL-URL:https://www.reifcenter.org
X-WR-CALDESC:Events for 
BEGIN:VTIMEZONE
TZID:America/Chicago
BEGIN:DAYLIGHT
TZOFFSETFROM:-0600
TZOFFSETTO:-0500
TZNAME:CDT
DTSTART:20200308T080000
END:DAYLIGHT
BEGIN:STANDARD
TZOFFSETFROM:-0500
TZOFFSETTO:-0600
TZNAME:CST
DTSTART:20201101T070000
END:STANDARD
END:VTIMEZONE
BEGIN:VEVENT
DTSTART;TZID=America/Chicago:20200313T141500
DTEND;TZID=America/Chicago:20200313T151500
DTSTAMP:20260420T195322
CREATED:20190822T191315Z
LAST-MODIFIED:20200306T233014Z
UID:5391-1584108900-1584112500@www.reifcenter.org
SUMMARY:Class Acts: Reif Dance Company Show
DESCRIPTION:Reif Dance Company is made up of the most dedicated and talented dancers who commit to extra rehearsal time for a place in the company\, or for younger students\, the Jr. Company. The Company Show brings together original\, classical\, contemporary\, and modern dance\, presenting works by professional choreographers as well as student choreography. It also features solos from our senior students who have been with us many years and are going off to college next year. This year we will have choreography by our faculty members Deirdre Murnane (Reif Dance Director)\, Julia Sutton\, Christina Anderson\, Katie E. Smith\, and Da’Rius Malone from James Sewell Ballet\, as well as many of the dancers themselves. It is a wonderful opportunity for our students to branch out and have the opportunity to work with each other as choreographers as well as dancers. This is a skill that they will carry with them for the rest of their lives\, regardless of their career choice. \nHigh School Show\n$7 per student | Tickets: boxoffice@reifcenter.org \n(218) 327-5780 \nThis show is part of the 2019-2020 Reif Education Class Acts Series and is not open to the general public. \nTHANK YOU TO SPONSORS\n\n\n\n\n
URL:https://www.reifcenter.org/event/class-acts-reif-dance-company-show/
LOCATION:Ives Studio Theater\, Reif Center\, 720 NW Conifer Dr\, Grand Rapids\, MN\, 55744\, United States
CATEGORIES:School
ATTACH;FMTTYPE=image/jpeg:https://www.reifcenter.org/wp-content/uploads/2020/03/Company-Show-web-banner.jpg
END:VEVENT
END:VCALENDAR