BEGIN:VCALENDAR
VERSION:2.0
PRODID:-// - ECPv4.9.14//NONSGML v1.0//EN
CALSCALE:GREGORIAN
METHOD:PUBLISH
X-ORIGINAL-URL:https://www.reifcenter.org
X-WR-CALDESC:Events for 
BEGIN:VTIMEZONE
TZID:America/Chicago
BEGIN:DAYLIGHT
TZOFFSETFROM:-0600
TZOFFSETTO:-0500
TZNAME:CDT
DTSTART:20200308T080000
END:DAYLIGHT
BEGIN:STANDARD
TZOFFSETFROM:-0500
TZOFFSETTO:-0600
TZNAME:CST
DTSTART:20201101T070000
END:STANDARD
END:VTIMEZONE
BEGIN:VEVENT
DTSTART;TZID=America/Chicago:20200604T190000
DTEND;TZID=America/Chicago:20200604T200000
DTSTAMP:20260420T231703
CREATED:20200515T231759Z
LAST-MODIFIED:20200516T230133Z
UID:6756-1591297200-1591300800@www.reifcenter.org
SUMMARY:Drive-In Series: Rich Mattson & Germaine Gemberling
DESCRIPTION: \nRich Mattson is a musician/songwriter and producer/engineer living in Sparta\, Minnesota. He began performing in 1980 at the age of 13\, and took up songwriting shortly after that. Since then he has led and played with several bands\, most notably the Glenrustles (1988-1999) and national touring act Ol’ Yeller (2000-2013). In 1991 he opened his own recording studio in Uptown Minneapolis\, and over the years has worked with hundreds of artists. Currently he is leading a cosmic folk rock group called “Rich Mattson and the Northstars” and collaborating with his partner Germaine Gemberling. He also continues to record and produce music at his recording studio\, Sparta Sound. \nA most lovely songbird from the northern woods of Minnesota ~ Germaine Gemberling is a singer-songwriter born and raised in St. Paul\, MN. She grew up in the midst of the indie-rock explosion that brought us the Replacements\, Husker Du\, Jayhawks and Soul Asylum. In 1989 at the age of 17\, Germaine started her 1st Band. She fronted the all-girl punk band SMUT\, who signed to Spanish Fly/Twin-Tone Records in 1992. A few years later…Germaine left the Twin Cities for the peace\, quiet and beauty of northern Minnesota. Since the move\, she began writing songs on acoustic guitar and formed the rock group “Darn Losers” who eventually morphed into “Shotgun Daisy.” Shotgun Daisy released one album on SMA Records before eventually morphing into “Junkboat\,” her latest folk-rock incarnation. When not fronting Junkboat\, Germaine performs acoustically\, accompanied by Rich Mattson\, a guitarist/singer who also records her albums at his Sparta Sound recording studio way up north\, in Minnesota. Germaine released & performed with Ol’ Yeller as her backing band\, in support of her LP. released April 23\, 2013 on Chaperone Records. Currently\, she is co-writing\, recording and performing with Rich Mattson & The Northstars. \nOnly $20 per vehicle and tickets must be purchased in advance. \nLimited to just 40 vehicles! \nIn order to experience this concert\, your vehicle must be equipped with an FM radio. \nTHANK YOU TO SPONSOR\n \n\nDrive-in Concert Rules \n\nIf a patron feels sick or has COVID-19 symptoms they must turn around and go home\nAll patrons must remain in their vehicles\nCars must be parked 6’ from other cars\nOnly patrons that reside together at home should be in a vehicle together\nNo more than 10 people per vehicle\nRestroom facilities are not available (if there is an emergency\, we will allow)\nFood and beverage will not be served but food and non-alcoholic beverages can be brought in by patrons\n\n\n
URL:https://www.reifcenter.org/event/drive-in-series-rich-mattson-germaine-gemberling/
LOCATION:Myles Reif Performing Arts Center Parking Lot\, 720 NW Conifer Dr\,\, Grand Rapids\, MN\, 55744\, United States
CATEGORIES:Community,Drive-In Concert Series,Music,Reif Series
ATTACH;FMTTYPE=image/png:https://www.reifcenter.org/wp-content/uploads/2020/05/Reif-Drive-In.png
END:VEVENT
END:VCALENDAR