BEGIN:VCALENDAR
VERSION:2.0
PRODID:-// - ECPv4.9.14//NONSGML v1.0//EN
CALSCALE:GREGORIAN
METHOD:PUBLISH
X-ORIGINAL-URL:https://www.reifcenter.org
X-WR-CALDESC:Events for 
BEGIN:VTIMEZONE
TZID:America/Chicago
BEGIN:DAYLIGHT
TZOFFSETFROM:-0600
TZOFFSETTO:-0500
TZNAME:CDT
DTSTART:20200308T080000
END:DAYLIGHT
BEGIN:STANDARD
TZOFFSETFROM:-0500
TZOFFSETTO:-0600
TZNAME:CST
DTSTART:20201101T070000
END:STANDARD
END:VTIMEZONE
BEGIN:VEVENT
DTSTART;TZID=America/Chicago:20200611T190000
DTEND;TZID=America/Chicago:20200611T200000
DTSTAMP:20260421T115209
CREATED:20200516T224908Z
LAST-MODIFIED:20200516T225939Z
UID:6770-1591902000-1591905600@www.reifcenter.org
SUMMARY:Drive-In Series: The Daytrippers
DESCRIPTION: \nAn entertaining group of guys from Grand Rapids with a great rock/indie vibe covering songs from the Beatles through today\, and a few originals thrown in the mix!\nAndy Fox-Keyboard\nCody Pederson-Lead Vocals\nEmmett Ward-Rhythm Guitar\nEthan Ward-Drums\nGus Boedigheimer-Bass Guitar\nLatin Byers-Lead Guitar \nOnly $20 per vehicle and tickets must be purchased in advance. \nLimited to just 40 vehicles! \nIn order to experience this concert\, your vehicle must be equipped with an FM radio. \nTHANK YOU TO SPONSOR\n \n\nDrive-in Concert Rules \n\nIf a patron feels sick or has COVID-19 symptoms they must turn around and go home\nAll patrons must remain in their vehicles\nCars must be parked 6’ from other cars\nOnly patrons that reside together at home should be in a vehicle together\nNo more than 10 people per vehicle\nRestroom facilities are not available (if there is an emergency\, we will allow)\nFood and beverage will not be served but food and non-alcoholic beverages can be brought in by patrons\n\n\n
URL:https://www.reifcenter.org/event/drive-in-series-the-daytrippers/
LOCATION:Myles Reif Performing Arts Center Parking Lot\, 720 NW Conifer Dr\,\, Grand Rapids\, MN\, 55744\, United States
CATEGORIES:Community,Drive-In Concert Series,Family,Music,Reif Series
ATTACH;FMTTYPE=image/png:https://www.reifcenter.org/wp-content/uploads/2020/05/Reif-Drive-In.png
END:VEVENT
END:VCALENDAR