BEGIN:VCALENDAR
VERSION:2.0
PRODID:-// - ECPv4.9.14//NONSGML v1.0//EN
CALSCALE:GREGORIAN
METHOD:PUBLISH
X-ORIGINAL-URL:https://www.reifcenter.org
X-WR-CALDESC:Events for 
BEGIN:VTIMEZONE
TZID:America/Chicago
BEGIN:DAYLIGHT
TZOFFSETFROM:-0600
TZOFFSETTO:-0500
TZNAME:CDT
DTSTART:20260308T080000
END:DAYLIGHT
BEGIN:STANDARD
TZOFFSETFROM:-0500
TZOFFSETTO:-0600
TZNAME:CST
DTSTART:20261101T070000
END:STANDARD
END:VTIMEZONE
BEGIN:VEVENT
DTSTART;TZID=America/Chicago:20260418T190000
DTEND;TZID=America/Chicago:20260418T190000
DTSTAMP:20260423T174453
CREATED:20260320T160212Z
LAST-MODIFIED:20260320T160316Z
UID:14457-1776538800-1776538800@www.reifcenter.org
SUMMARY:The Janzen Boys
DESCRIPTION:\n\n\n\n\nThe Janzen Boys have been playing music together since the very beginning\, but it started as “The Janzen Boys” shortly after they moved back to Canada from Japan in 2012. They’re a rootsy\, harmony-singing folk trio from Winnipeg\, Manitoba\, consisting of brothers Simon and Mick\, and father JJ. Whether they’re playing at music festivals\, theatres\, venues\, or intimate house concerts\, they’ll have you laughing\, crying\, and singing along to classics that you know and love\, and catchy original tunes that’ll be stuck in your head for days! \n\nwww.thejanzenboys.com \n\n\n\n\n\n
URL:https://www.reifcenter.org/event/the-janzen-boys/
LOCATION:Ives Studio Theater\, Reif Center\, 720 NW Conifer Dr\, Grand Rapids\, MN\, 55744\, United States
CATEGORIES:Community,Reif Rental
ATTACH;FMTTYPE=image/jpeg:https://www.reifcenter.org/wp-content/uploads/2026/03/6e07cba8-29a3-4288-aeda-95d559f7bd1f.jpeg
END:VEVENT
END:VCALENDAR