BEGIN:VCALENDAR
VERSION:2.0
PRODID:-// - ECPv4.9.14//NONSGML v1.0//EN
CALSCALE:GREGORIAN
METHOD:PUBLISH
X-ORIGINAL-URL:https://www.reifcenter.org
X-WR-CALDESC:Events for 
BEGIN:VTIMEZONE
TZID:America/Chicago
BEGIN:DAYLIGHT
TZOFFSETFROM:-0600
TZOFFSETTO:-0500
TZNAME:CDT
DTSTART:20260308T080000
END:DAYLIGHT
BEGIN:STANDARD
TZOFFSETFROM:-0500
TZOFFSETTO:-0600
TZNAME:CST
DTSTART:20261101T070000
END:STANDARD
END:VTIMEZONE
BEGIN:VEVENT
DTSTART;TZID=America/Chicago:20260423T130000
DTEND;TZID=America/Chicago:20260423T140000
DTSTAMP:20260423T175654
CREATED:20251020T213443Z
LAST-MODIFIED:20251022T202129Z
UID:14019-1776949200-1776952800@www.reifcenter.org
SUMMARY:Jazz Choir Concert (Senior Series)
DESCRIPTION:Tickets: \n\n\nADULT: $10.00\n\n\n\n\nSENIOR (62+): $5.00\n\n\n\n\nSTUDENT: $5.00\n\n\nIf you are part of a Senior/Assisted Living facility and wish to attend as a group\, PLEASE CALL to place an order to ensure accommodations can be met (do not purchase tickets online). 218.327.5780 (M-F\, 11am to 4pm). \nSponsored By \n \nVocal Jazz is an auditioned chamber ensemble made of students in grades 11 & 12. This group rehearses and performs standard jazz charts\, contemporary tunes\, and madrigals during the holiday season. These students are learning about what it means to be a member of an ensemble through consistent collaboration with each other and taking ownership of their own musical ideas. \n\n
URL:https://www.reifcenter.org/event/jazz-choir-concert-senior-series-2/
LOCATION:Ives Studio Theater\, Reif Center\, 720 NW Conifer Dr\, Grand Rapids\, MN\, 55744\, United States
CATEGORIES:Community,Music,Senior Series
ATTACH;FMTTYPE=image/png:https://www.reifcenter.org/wp-content/uploads/2025/10/Screen-Shot-2025-10-20-at-4.26.29-PM.png
END:VEVENT
END:VCALENDAR