BEGIN:VCALENDAR
VERSION:2.0
PRODID:-// - ECPv4.9.14//NONSGML v1.0//EN
CALSCALE:GREGORIAN
METHOD:PUBLISH
X-ORIGINAL-URL:https://www.reifcenter.org
X-WR-CALDESC:Events for 
BEGIN:VTIMEZONE
TZID:America/Chicago
BEGIN:DAYLIGHT
TZOFFSETFROM:-0600
TZOFFSETTO:-0500
TZNAME:CDT
DTSTART:20260308T080000
END:DAYLIGHT
BEGIN:STANDARD
TZOFFSETFROM:-0500
TZOFFSETTO:-0600
TZNAME:CST
DTSTART:20261101T070000
END:STANDARD
END:VTIMEZONE
BEGIN:VEVENT
DTSTART;TZID=America/Chicago:20260430T183000
DTEND;TZID=America/Chicago:20260430T183000
DTSTAMP:20260423T173412
CREATED:20260309T155000Z
LAST-MODIFIED:20260309T155000Z
UID:14421-1777573800-1777573800@www.reifcenter.org
SUMMARY:ILO Players Proudly Presents: The Theft at Windsor Manor
DESCRIPTION:\n\nILO Players Proudly Presents: The Theft at Windsor Manor \nWritten & Directed by Rachelle Bergstedt \n\nA glamorous party at Windsor Mannor is interrupted when a valuable treasure suddenly disappears…Can Detective Bulletin and his trusty sidekick\, Honey Mustard\, uncover the truth before the night is over? Join the ILO Players for a funny and mysterious whodunit where no one is above suspicion!  \n\nILO Players\, is a troupe of actors of all abilities from Itasca Life Options\, whose mission is to empower & provide opportunities to people of all abilities. \n\n\n\n
URL:https://www.reifcenter.org/event/ilo-players-proudly-presents-the-theft-at-windsor-manor/
LOCATION:Wilcox Theater\, 720 NW Conifer Dr\, Grand Rapids\, MN\, 55744\, United States
CATEGORIES:Community,Family,Music,Reif Series,Theater
ATTACH;FMTTYPE=image/jpeg:https://www.reifcenter.org/wp-content/uploads/2026/03/The-Theft-at-Windsor-ManorFINAL-scaled.jpg
END:VEVENT
END:VCALENDAR