BEGIN:VCALENDAR
VERSION:2.0
PRODID:-// - ECPv4.9.14//NONSGML v1.0//EN
CALSCALE:GREGORIAN
METHOD:PUBLISH
X-ORIGINAL-URL:https://www.reifcenter.org
X-WR-CALDESC:Events for 
BEGIN:VTIMEZONE
TZID:America/Chicago
BEGIN:DAYLIGHT
TZOFFSETFROM:-0600
TZOFFSETTO:-0500
TZNAME:CDT
DTSTART:20260308T080000
END:DAYLIGHT
BEGIN:STANDARD
TZOFFSETFROM:-0500
TZOFFSETTO:-0600
TZNAME:CST
DTSTART:20261101T070000
END:STANDARD
END:VTIMEZONE
BEGIN:VEVENT
DTSTART;TZID=America/Chicago:20260612T190000
DTEND;TZID=America/Chicago:20260612T190000
DTSTAMP:20260423T213222
CREATED:20250728T132525Z
LAST-MODIFIED:20260317T154911Z
UID:13783-1781290800-1781290800@www.reifcenter.org
SUMMARY:Reif Dance: Spring Show
DESCRIPTION:THANK YOU TO OUR SPONSORS \n \n \n.fusion-accordian  #accordion-13783-1 .panel-title a .fa-fusion-box{ color: #ffffff;}.fusion-accordian  #accordion-13783-1 .panel-title a .fa-fusion-box:before{ font-size: 13px; width: 13px;}.fusion-accordian  #accordion-13783-1 .panel-title a{font-size:20px;}.fusion-accordian  #accordion-13783-1 .fa-fusion-box { background-color: #333333;border-color: #333333;}.fusion-accordian  #accordion-13783-1 .panel-title a:hover\, #accordion-13783-1 .fusion-toggle-boxed-mode:hover .panel-title a { color: #f05023;}.fusion-accordian  #accordion-13783-1 .panel-title .active .fa-fusion-box\,.fusion-accordian  #accordion-13783-1 .panel-title a:hover .fa-fusion-box { background-color: #f05023!important;border-color: #f05023!important;}Reif Dance: Spring Show\nBallet\, jazz\, modern\, tap\, and dance fundamental students\, young and old\, unite for a story-themed finale. Reif Dance presents “Life is an Open Book\,” an original tale by Katie E. Smith about a girl’s lifelong love of books. From our youngest dancers to our oldest adults\, each class represents characters\, themes\, or scenes from beloved books. Enjoy letters from Chicka Chicka Boom Boom\, animal friends from The Tale of Peter Rabbit\, the garden from The Secret Garden\, and sirens from The Odyssey. Expect fabulous costumes\, great music\, and exceptional talent. \nKNOW BEFORE YOU GO\n\n.fusion-accordian  #accordion-13783-2 .panel-title a .fa-fusion-box{ color: #ffffff;}.fusion-accordian  #accordion-13783-2 .panel-title a .fa-fusion-box:before{ font-size: 13px; width: 13px;}.fusion-accordian  #accordion-13783-2 .panel-title a{font-size:20px;}.fusion-accordian  #accordion-13783-2 .fa-fusion-box { background-color: #333333;border-color: #333333;}.fusion-accordian  #accordion-13783-2 .panel-title a:hover\, #accordion-13783-2 .fusion-toggle-boxed-mode:hover .panel-title a { color: #f05023;}.fusion-accordian  #accordion-13783-2 .panel-title .active .fa-fusion-box\,.fusion-accordian  #accordion-13783-2 .panel-title a:hover .fa-fusion-box { background-color: #f05023!important;border-color: #f05023!important;} REFUNDS & EXCHANGES\nThere are no refunds or exchanges. If you are unable to use your tickets\, they may be returned to the Box Office in exchange for a charitable donation receipt. If an event is cancelled due to weather\, tickets will be reimbursed or can be exchanged for another performance. Performances will not be cancelled as long as performers are able to make it. \nWhile exchanges are not allowed between different events\, in the instance of a multi-day set for the same event (for example\, our 3-day Nutcracker performance) a patron can exchange tickets to a different day by paying a $5.00 per order exchange fee. \nBy purchasing a ticket to this event\, you agree to this purchase policy. Before purchasing your tickets\, we urge you to confirm the title\, time and location of the event. \nTHIRD PARTY TRANSACTIONS – eBay\, Craigslist\, Ticket Brokers\, etc.\nThe Reif strongly recommends that tickets be purchased only from The Reif (in person\, over the phone or at www.TheReif.org). The Reif is not responsible for the validity of tickets\, or prices paid\, for items purchased through third party sources such as eBay\, Craigslist\, ticket brokers or others. The Reif reserves the right to reject tickets purchased from third party sources which are determined\, in The Reif’s sole opinion\, to have been altered\, duplicated or counterfeited. The Reif also reserves the right to cancel any ticket which\, in The Reif’s sole opinion\, was purchased with the intent of reselling the ticket at a price higher than what The Reif charges. The Reif reserves the right to cancel any voucher (including tickets issued as the result of redeeming a voucher) if it is determined\, in The Reif’s sole opinion\, that the voucher was resold. The Reif will not refund any monies paid to third party brokers or for any tickets not purchased directly from The Reif. \nHOUSE GUIDELINES\n• The House will generally open 30 minutes prior to the event start time\, at the artist’s discretion\n• The taking of unauthorized video or photos is prohibited unless announced otherwise from the stage before each event\n• Outside food and beverage is not permitted into our facility\, however\, food purchased at the Lakewood Café may be brought into our theaters\n• For assigned seating events\, please do not relocate to other seats in the auditorium unless instructed by an usher or Reif employee\n• All patrons require a ticket\, regardless of age (includes lap children) \n\n
URL:https://www.reifcenter.org/event/reif-dance-spring-show-2/2026-06-12/
LOCATION:Wilcox Theater\, 720 NW Conifer Dr\, Grand Rapids\, MN\, 55744\, United States
CATEGORIES:Community,Family,Music,Reif Series,Theater
ATTACH;FMTTYPE=image/jpeg:https://www.reifcenter.org/wp-content/uploads/2025/07/Reif-Website-event-open-book-1.jpg
END:VEVENT
END:VCALENDAR