BEGIN:VCALENDAR
VERSION:2.0
PRODID:-// - ECPv4.9.14//NONSGML v1.0//EN
CALSCALE:GREGORIAN
METHOD:PUBLISH
X-ORIGINAL-URL:https://www.reifcenter.org
X-WR-CALDESC:Events for 
BEGIN:VTIMEZONE
TZID:America/Chicago
BEGIN:DAYLIGHT
TZOFFSETFROM:-0600
TZOFFSETTO:-0500
TZNAME:CDT
DTSTART:20260308T080000
END:DAYLIGHT
BEGIN:STANDARD
TZOFFSETFROM:-0500
TZOFFSETTO:-0600
TZNAME:CST
DTSTART:20261101T070000
END:STANDARD
END:VTIMEZONE
BEGIN:VEVENT
DTSTART;TZID=America/Chicago:20260818T180000
DTEND;TZID=America/Chicago:20260818T180000
DTSTAMP:20260424T003719
CREATED:20260423T154956Z
LAST-MODIFIED:20260423T155249Z
UID:14499-1787076000-1787076000@www.reifcenter.org
SUMMARY:"Full Draw Film Tour" brought to you by MNBOW 2026
DESCRIPTION:\n\nCome support MNBOW www.mnbowhunters.com \nYear 16 is here! Join us for the 2026 Full Draw Film Tour\, presented by ONXHUNT! Get ready for thrilling new films featuring screaming bulls and captivating storylines from top outdoor filmmakers. Epic adventure and breathtaking cinematography at a venue near you. Grab your tickets now and don’t miss out on this wild ride! Plus\, don’t miss out on some great door prizes from MNBOW and our sponsors. \nDoors Open: 5pm \nShow Starts: 6pm \nTickets available at the door if any remain. \n\n\n\n
URL:https://www.reifcenter.org/event/full-draw-film-tour-brought-to-you-by-mnbow-2026/
LOCATION:Ives Studio Theater\, Reif Center\, 720 NW Conifer Dr\, Grand Rapids\, MN\, 55744\, United States
CATEGORIES:Community,Reif Rental
ATTACH;FMTTYPE=image/png:https://www.reifcenter.org/wp-content/uploads/2026/04/Screen-Shot-2026-04-23-at-10.39.16-AM.png
END:VEVENT
END:VCALENDAR